BEGIN:VCALENDAR
VERSION:2.0
PRODID:-//Riverside Theatre - Iowa City, Iowa - ECPv6.2.9//NONSGML v1.0//EN
CALSCALE:GREGORIAN
METHOD:PUBLISH
X-ORIGINAL-URL:https://riversidetheatre.org
X-WR-CALDESC:Events for Riverside Theatre - Iowa City, Iowa
REFRESH-INTERVAL;VALUE=DURATION:PT1H
X-Robots-Tag:noindex
X-PUBLISHED-TTL:PT1H
BEGIN:VTIMEZONE
TZID:America/Chicago
BEGIN:DAYLIGHT
TZOFFSETFROM:-0600
TZOFFSETTO:-0500
TZNAME:CDT
DTSTART:20210314T080000
END:DAYLIGHT
BEGIN:STANDARD
TZOFFSETFROM:-0500
TZOFFSETTO:-0600
TZNAME:CST
DTSTART:20211107T070000
END:STANDARD
END:VTIMEZONE
BEGIN:VEVENT
DTSTART;TZID=America/Chicago:20211021T193000
DTEND;TZID=America/Chicago:20211021T193000
DTSTAMP:20260425T081622
CREATED:20210923T225351Z
LAST-MODIFIED:20211022T163804Z
UID:1236-1634844600-1634844600@riversidetheatre.org
SUMMARY:The Grand Inquisitor - SOLD OUT
DESCRIPTION:[vc_row][vc_column width=”1/2″][vc_single_image image=”1299″ img_size=”full” alignment=”center”][vc_column_text el_class=”b-box-3 mt-0″] \nPerformances\nThursday\, October 21 @ 7:30pm – SOLD OUT\nFriday\, October 22 @ 7:30pm – SOLD OUT\nSaturday\, October 23 @ 7:30pm – SOLD OUT\nSunday\, October 24 @ 2:00pm – SOLD OUT \nThursday\, October 28 @ 7:30pm – SOLD OUT\nFriday\, October 29 @ 7:30pm – SOLD OUT\nSaturday\, October 30 @ 7:30pm – SOLD OUT\nSunday\, October 31 @ 2:00pm – SOLD OUT \n[/vc_column_text][vc_column_text el_class=”b-box-3″] \nPlan Your Visit\nTickets: Registration is required for admission. No need to print anything once you’ve registered – your name will be on our list! \nCOVID Safety: Masks are strongly encouraged to be worn during the entirety of the performance. Drinking and eating will not be allowed during the performance. \nRun Time: 45 minutes\, no intermission \nArriving: Please arrive early – there are no breaks in the performance for late seating. The easiest way to access the UI Main Library Gallery is via the north entrance of the main library. \nParking: For information on parking near the UI Main Library\, please click HERE. \nConcessions: There will be no concessions and we kindly request that no food or drink be brought into the gallery\, aside from water bottles. \n[/vc_column_text][vc_column_text] \nLocation\n\n\nUniversity of Iowa Main Library Gallery\, 125 W Washington St\, Iowa City 52242 \n\n\n[/vc_column_text][vc_single_image image=”1341″ img_size=”full” style=”vc_box_circle”][/vc_column][vc_column width=”1/2″][vc_btn title=”FREE TO ATTEND – REGISTRATION REQUIRED” style=”flat” shape=”square” color=”black” align=”center” button_block=”true” link=”url:https%3A%2F%2Fprod5.agileticketing.net%2Fwebsales%2Fpages%2Flist.aspx%3Fepguid%3D0ee6eecd-c61c-48a7-94a7-3a21da4ffdd9%26|target:_blank”][vc_empty_space][vc_column_text]Written by Marie-Helene d’Estienne\nDirected by Ron Clark \nOctober 21-31\, 2021 at University of Iowa Main Library Gallery\, 125 W Washington St\, Iowa City 52242 \nIn collaboration with the Iowa City Book Festival and University of Iowa Libraries’ “Dostoevsky at 200” exhibit. \nDostoyevsky’s chilling parable about life\, religious faith\, and the stories that hold our society together. A monologue of urgency and intensity adapted from The Brothers Karamazov.[/vc_column_text][vc_column_text el_class=”b-box-2″] \nCast & Crew\n\n			\n				\n			\n				\n				John Williams Watkins\n				\n		\n\nTHE INQUISITOR: John William Watkins* \nCast & Crew\nDirector: Ron Clark\nScenic & Lighting Designer: Chris Rich\nCostume Designer: Jenny Nutting Kelchen\nStage Manager: Maggie McClellan\nSound Designer: Bri Atwood\nCOVID Safety Officers: Adam Knight\, Jody Hovland \n*Members of Actors’ Equity Association\, the Union of Professional Actors and Stage Managers in the United States \n[/vc_column_text][vc_column_text] \nMedia Partner\n[/vc_column_text][/vc_column][/vc_row][vc_row][vc_column][/vc_column][/vc_row]
URL:https://riversidetheatre.org/event/the-grand-inquisitor-10-21-21/
LOCATION:University of Iowa Main Library Gallery\, 125 W Washington St\,\, Iowa City\, IA\, 52242\, United States
END:VEVENT
BEGIN:VEVENT
DTSTART;TZID=America/Chicago:20211022T193000
DTEND;TZID=America/Chicago:20211022T193000
DTSTAMP:20260425T081622
CREATED:20210923T225351Z
LAST-MODIFIED:20211022T163658Z
UID:1254-1634931000-1634931000@riversidetheatre.org
SUMMARY:The Grand Inquisitor - SOLD OUT
DESCRIPTION:[vc_row][vc_column width=”1/2″][vc_single_image image=”1299″ img_size=”full” alignment=”center”][vc_column_text el_class=”b-box-3 mt-0″] \nPerformances\nThursday\, October 21 @ 7:30pm – SOLD OUT\nFriday\, October 22 @ 7:30pm – SOLD OUT\nSaturday\, October 23 @ 7:30pm – SOLD OUT\nSunday\, October 24 @ 2:00pm – SOLD OUT \nThursday\, October 28 @ 7:30pm – SOLD OUT\nFriday\, October 29 @ 7:30pm – SOLD OUT\nSaturday\, October 30 @ 7:30pm – SOLD OUT\nSunday\, October 31 @ 2:00pm – SLD OUT \n[/vc_column_text][vc_column_text el_class=”b-box-3″] \nPlan Your Visit\nTickets: Registration is required for admission. No need to print anything once you’ve registered – your name will be on our list! \nCOVID Safety: Masks are strongly encouraged to be worn during the entirety of the performance. Drinking and eating will not be allowed during the performance. \nRun Time: 45 minutes\, no intermission \nArriving: Please arrive early – there are no breaks in the performance for late seating. The easiest way to access the UI Main Library Gallery is via the north entrance of the main library. \nParking: For information on parking near the UI Main Library\, please click HERE. \nConcessions: There will be no concessions and we kindly request that no food or drink be brought into the gallery\, aside from water bottles. \n[/vc_column_text][vc_column_text] \nLocation\n\n\nUniversity of Iowa Main Library Gallery\, 125 W Washington St\, Iowa City 52242 \n\n\n[/vc_column_text][vc_single_image image=”1341″ img_size=”full” style=”vc_box_circle”][/vc_column][vc_column width=”1/2″][vc_btn title=”FREE TO ATTEND – REGISTRATION REQUIRED” style=”flat” shape=”square” color=”black” align=”center” button_block=”true” link=”url:https%3A%2F%2Fprod5.agileticketing.net%2Fwebsales%2Fpages%2Flist.aspx%3Fepguid%3D0ee6eecd-c61c-48a7-94a7-3a21da4ffdd9%26|target:_blank”][vc_empty_space][vc_column_text]Written by Marie-Helene d’Estienne\nDirected by Ron Clark \nOctober 21-31\, 2021 at University of Iowa Main Library Gallery\, 125 W Washington St\, Iowa City 52242 \nIn collaboration with the Iowa City Book Festival and University of Iowa Libraries’ “Dostoevsky at 200” exhibit. \nDostoyevsky’s chilling parable about life\, religious faith\, and the stories that hold our society together. A monologue of urgency and intensity adapted from The Brothers Karamazov.[/vc_column_text][vc_column_text el_class=”b-box-2″] \nCast & Crew\n\n			\n				\n			\n				\n				John Williams Watkins\n				\n		\n\nTHE INQUISITOR: John William Watkins* \nCast & Crew\nDirector: Ron Clark\nScenic & Lighting Designer: Chris Rich\nCostume Designer: Jenny Nutting Kelchen\nStage Manager: Maggie McClellan\nSound Designer: Bri Atwood\nCOVID Safety Officers: Adam Knight\, Jody Hovland \n*Members of Actors’ Equity Association\, the Union of Professional Actors and Stage Managers in the United States \n[/vc_column_text][vc_column_text] \nMedia Partner\n[/vc_column_text][/vc_column][/vc_row][vc_row][vc_column][/vc_column][/vc_row]
URL:https://riversidetheatre.org/event/the-grand-inquisitor-10-22-21/
LOCATION:University of Iowa Main Library Gallery\, 125 W Washington St\,\, Iowa City\, IA\, 52242\, United States
END:VEVENT
BEGIN:VEVENT
DTSTART;TZID=America/Chicago:20211023T193000
DTEND;TZID=America/Chicago:20211023T193000
DTSTAMP:20260425T081622
CREATED:20210923T225351Z
LAST-MODIFIED:20211022T163637Z
UID:1255-1635017400-1635017400@riversidetheatre.org
SUMMARY:The Grand Inquisitor - SOLD OUT
DESCRIPTION:[vc_row][vc_column width=”1/2″][vc_single_image image=”1299″ img_size=”full” alignment=”center”][vc_column_text el_class=”b-box-3 mt-0″] \nPerformances\nThursday\, October 21 @ 7:30pm – SOLD OUT\nFriday\, October 22 @ 7:30pm – SOLD OUT\nSaturday\, October 23 @ 7:30pm – SOLD OUT\nSunday\, October 24 @ 2:00pm – SOLD OUT \nThursday\, October 28 @ 7:30pm – SOLD OUT\nFriday\, October 29 @ 7:30pm – SOLD OUT\nSaturday\, October 30 @ 7:30pm – SOLD OUT\nSunday\, October 31 @ 2:00pm – SOLD OUT \n[/vc_column_text][vc_column_text el_class=”b-box-3″] \nPlan Your Visit\nTickets: Registration is required for admission. No need to print anything once you’ve registered – your name will be on our list! \nCOVID Safety: Masks are strongly encouraged to be worn during the entirety of the performance. Drinking and eating will not be allowed during the performance. \nRun Time: 45 minutes\, no intermission \nArriving: Please arrive early – there are no breaks in the performance for late seating. The easiest way to access the UI Main Library Gallery is via the north entrance of the main library. \nParking: For information on parking near the UI Main Library\, please click HERE. \nConcessions: There will be no concessions and we kindly request that no food or drink be brought into the gallery\, aside from water bottles. \n[/vc_column_text][vc_column_text] \nLocation\n\n\nUniversity of Iowa Main Library Gallery\, 125 W Washington St\, Iowa City 52242 \n\n\n[/vc_column_text][vc_single_image image=”1341″ img_size=”full” style=”vc_box_circle”][/vc_column][vc_column width=”1/2″][vc_btn title=”FREE TO ATTEND – REGISTRATION REQUIRED” style=”flat” shape=”square” color=”black” align=”center” button_block=”true” link=”url:https%3A%2F%2Fprod5.agileticketing.net%2Fwebsales%2Fpages%2Flist.aspx%3Fepguid%3D0ee6eecd-c61c-48a7-94a7-3a21da4ffdd9%26|target:_blank”][vc_empty_space][vc_column_text]Written by Marie-Helene d’Estienne\nDirected by Ron Clark \nOctober 21-31\, 2021 at University of Iowa Main Library Gallery\, 125 W Washington St\, Iowa City 52242 \nIn collaboration with the Iowa City Book Festival and University of Iowa Libraries’ “Dostoevsky at 200” exhibit. \nDostoyevsky’s chilling parable about life\, religious faith\, and the stories that hold our society together. A monologue of urgency and intensity adapted from The Brothers Karamazov.[/vc_column_text][vc_column_text el_class=”b-box-2″] \nCast & Crew\n\n			\n				\n			\n				\n				John Williams Watkins\n				\n		\n\nTHE INQUISITOR: John William Watkins* \nCast & Crew\nDirector: Ron Clark\nScenic & Lighting Designer: Chris Rich\nCostume Designer: Jenny Nutting Kelchen\nStage Manager: Maggie McClellan\nSound Designer: Bri Atwood\nCOVID Safety Officers: Adam Knight\, Jody Hovland \n*Members of Actors’ Equity Association\, the Union of Professional Actors and Stage Managers in the United States \n[/vc_column_text][vc_column_text] \nMedia Partner\n[/vc_column_text][/vc_column][/vc_row][vc_row][vc_column][/vc_column][/vc_row]
URL:https://riversidetheatre.org/event/the-grand-inquisitor-10-23-21/
LOCATION:University of Iowa Main Library Gallery\, 125 W Washington St\,\, Iowa City\, IA\, 52242\, United States
END:VEVENT
BEGIN:VEVENT
DTSTART;TZID=America/Chicago:20211024T140000
DTEND;TZID=America/Chicago:20211024T140000
DTSTAMP:20260425T081622
CREATED:20210923T225351Z
LAST-MODIFIED:20211022T163541Z
UID:1296-1635084000-1635084000@riversidetheatre.org
SUMMARY:The Grand Inquisitor - SOLD OUT
DESCRIPTION:[vc_row][vc_column width=”1/2″][vc_single_image image=”1299″ img_size=”full” alignment=”center”][vc_column_text el_class=”b-box-3 mt-0″] \nPerformances\nThursday\, October 21 @ 7:30pm – SOLD OUT\nFriday\, October 22 @ 7:30pm – SOLD OUT\nSaturday\, October 23 @ 7:30pm – SOLD OUT\nSunday\, October 24 @ 2:00pm – SOLD OUT \nThursday\, October 28 @ 7:30pm – SOLD OUT\nFriday\, October 29 @ 7:30pm – SOLD OUT\nSaturday\, October 30 @ 7:30pm – SOLD OUT\nSunday\, October 31 @ 2:00pm – SOLD OUT \n[/vc_column_text][vc_column_text el_class=”b-box-3″] \nPlan Your Visit\nTickets: Registration is required for admission. No need to print anything once you’ve registered – your name will be on our list! \nCOVID Safety: Masks are strongly encouraged to be worn during the entirety of the performance. Drinking and eating will not be allowed during the performance. \nRun Time: 45 minutes\, no intermission \nArriving: Please arrive early – there are no breaks in the performance for late seating. The easiest way to access the UI Main Library Gallery is via the north entrance of the main library. \nParking: For information on parking near the UI Main Library\, please click HERE. \nConcessions: There will be no concessions and we kindly request that no food or drink be brought into the gallery\, aside from water bottles. \n[/vc_column_text][vc_column_text] \nLocation\n\n\nUniversity of Iowa Main Library Gallery\, 125 W Washington St\, Iowa City 52242 \n\n\n[/vc_column_text][vc_single_image image=”1341″ img_size=”full” style=”vc_box_circle”][/vc_column][vc_column width=”1/2″][vc_btn title=”FREE TO ATTEND – REGISTRATION REQUIRED” style=”flat” shape=”square” color=”black” align=”center” button_block=”true” link=”url:https%3A%2F%2Fprod5.agileticketing.net%2Fwebsales%2Fpages%2Flist.aspx%3Fepguid%3D0ee6eecd-c61c-48a7-94a7-3a21da4ffdd9%26|target:_blank”][vc_empty_space][vc_column_text]Written by Marie-Helene d’Estienne\nDirected by Ron Clark \nOctober 21-31\, 2021 at University of Iowa Main Library Gallery\, 125 W Washington St\, Iowa City 52242 \nIn collaboration with the Iowa City Book Festival and University of Iowa Libraries’ “Dostoevsky at 200” exhibit. \nDostoyevsky’s chilling parable about life\, religious faith\, and the stories that hold our society together. A monologue of urgency and intensity adapted from The Brothers Karamazov.[/vc_column_text][vc_column_text el_class=”b-box-2″] \nCast & Crew\n\n			\n				\n			\n				\n				John Williams Watkins\n				\n		\n\nTHE INQUISITOR: John William Watkins* \nCast & Crew\nDirector: Ron Clark\nScenic & Lighting Designer: Chris Rich\nCostume Designer: Jenny Nutting Kelchen\nStage Manager: Maggie McClellan\nSound Designer: Bri Atwood\nCOVID Safety Officers: Adam Knight\, Jody Hovland \n*Members of Actors’ Equity Association\, the Union of Professional Actors and Stage Managers in the United States \n[/vc_column_text][vc_column_text] \nMedia Partner\n[/vc_column_text][/vc_column][/vc_row][vc_row][vc_column][/vc_column][/vc_row]
URL:https://riversidetheatre.org/event/the-grand-inquisitor-10-24-21/
LOCATION:University of Iowa Main Library Gallery\, 125 W Washington St\,\, Iowa City\, IA\, 52242\, United States
END:VEVENT
BEGIN:VEVENT
DTSTART;TZID=America/Chicago:20211028T193000
DTEND;TZID=America/Chicago:20211028T193000
DTSTAMP:20260425T081622
CREATED:20210923T225351Z
LAST-MODIFIED:20211028T175602Z
UID:1256-1635449400-1635449400@riversidetheatre.org
SUMMARY:The Grand Inquisitor - SOLD OUT
DESCRIPTION:[vc_row][vc_column width=”1/2″][vc_single_image image=”1299″ img_size=”full” alignment=”center”][vc_column_text el_class=”b-box-3 mt-0″] \nPerformances\nThursday\, October 21 @ 7:30pm – SOLD OUT\nFriday\, October 22 @ 7:30pm – SOLD OUT\nSaturday\, October 23 @ 7:30pm – SOLD OUT\nSunday\, October 24 @ 2:00pm – SOLD OUT \nThursday\, October 28 @ 7:30pm – SOLD OUT\nFriday\, October 29 @ 7:30pm – SOLD OUT\nSaturday\, October 30 @ 7:30pm\nSunday\, October 31 @ 2:00pm \n[/vc_column_text][vc_column_text el_class=”b-box-3″] \nPlan Your Visit\nTickets: Registration is required for admission. No need to print anything once you’ve registered – your name will be on our list! \nCOVID Safety: Masks are strongly encouraged to be worn during the entirety of the performance. Drinking and eating will not be allowed during the performance. \nRun Time: 45 minutes\, no intermission \nArriving: Please arrive early – there are no breaks in the performance for late seating. The easiest way to access the UI Main Library Gallery is via the north entrance of the main library. \nParking: For information on parking near the UI Main Library\, please click HERE. \nConcessions: There will be no concessions and we kindly request that no food or drink be brought into the gallery\, aside from water bottles. \n[/vc_column_text][vc_column_text] \nLocation\n\n\nUniversity of Iowa Main Library Gallery\, 125 W Washington St\, Iowa City 52242 \n\n\n[/vc_column_text][vc_single_image image=”1341″ img_size=”full” style=”vc_box_circle”][/vc_column][vc_column width=”1/2″][vc_btn title=”FREE TO ATTEND – REGISTRATION REQUIRED” style=”flat” shape=”square” color=”black” align=”center” button_block=”true” link=”url:https%3A%2F%2Fprod5.agileticketing.net%2Fwebsales%2Fpages%2Flist.aspx%3Fepguid%3D0ee6eecd-c61c-48a7-94a7-3a21da4ffdd9%26|target:_blank”][vc_empty_space][vc_column_text]Written by Marie-Helene d’Estienne\nDirected by Ron Clark \nOctober 21-31\, 2021 at University of Iowa Main Library Gallery\, 125 W Washington St\, Iowa City 52242 \nIn collaboration with the Iowa City Book Festival and University of Iowa Libraries’ “Dostoevsky at 200” exhibit. \nDostoyevsky’s chilling parable about life\, religious faith\, and the stories that hold our society together. A monologue of urgency and intensity adapted from The Brothers Karamazov.[/vc_column_text][vc_column_text el_class=”b-box-2″] \nCast & Crew\n\n			\n				\n			\n				\n				John Williams Watkins\n				\n		\n\nTHE INQUISITOR: John William Watkins* \nCast & Crew\nDirector: Ron Clark\nScenic & Lighting Designer: Chris Rich\nCostume Designer: Jenny Nutting Kelchen\nStage Manager: Maggie McClellan\nSound Designer: Bri Atwood\nCOVID Safety Officers: Adam Knight\, Jody Hovland \n*Members of Actors’ Equity Association\, the Union of Professional Actors and Stage Managers in the United States \n[/vc_column_text][vc_column_text] \nMedia Partner\n[/vc_column_text][/vc_column][/vc_row][vc_row][vc_column][/vc_column][/vc_row]
URL:https://riversidetheatre.org/event/the-grand-inquisitor-10-28-21/
LOCATION:University of Iowa Main Library Gallery\, 125 W Washington St\,\, Iowa City\, IA\, 52242\, United States
END:VEVENT
BEGIN:VEVENT
DTSTART;TZID=America/Chicago:20211029T193000
DTEND;TZID=America/Chicago:20211029T193000
DTSTAMP:20260425T081622
CREATED:20210923T225351Z
LAST-MODIFIED:20211029T171242Z
UID:1257-1635535800-1635535800@riversidetheatre.org
SUMMARY:The Grand Inquisitor - SOLD OUT
DESCRIPTION:[vc_row][vc_column width=”1/2″][vc_single_image image=”1299″ img_size=”full” alignment=”center”][vc_column_text el_class=”b-box-3 mt-0″] \nPerformances\nThursday\, October 21 @ 7:30pm – SOLD OUT\nFriday\, October 22 @ 7:30pm – SOLD OUT\nSaturday\, October 23 @ 7:30pm – SOLD OUT\nSunday\, October 24 @ 2:00pm – SOLD OUT \nThursday\, October 28 @ 7:30pm – SOLD OUT\nFriday\, October 29 @ 7:30pm – SOLD OUT\nSaturday\, October 30 @ 7:30pm – SOLD OUT\nSunday\, October 31 @ 2:00pm – SOLD OUT \n[/vc_column_text][vc_column_text el_class=”b-box-3″] \nPlan Your Visit\nTickets: Registration is required for admission. No need to print anything once you’ve registered – your name will be on our list! \nCOVID Safety: Masks are strongly encouraged to be worn during the entirety of the performance. Drinking and eating will not be allowed during the performance. \nRun Time: 45 minutes\, no intermission \nArriving: Please arrive early – there are no breaks in the performance for late seating. The easiest way to access the UI Main Library Gallery is via the north entrance of the main library. \nParking: For information on parking near the UI Main Library\, please click HERE. \nConcessions: There will be no concessions and we kindly request that no food or drink be brought into the gallery\, aside from water bottles. \n[/vc_column_text][vc_column_text] \nLocation\n\n\nUniversity of Iowa Main Library Gallery\, 125 W Washington St\, Iowa City 52242 \n\n\n[/vc_column_text][vc_single_image image=”1341″ img_size=”full” style=”vc_box_circle”][/vc_column][vc_column width=”1/2″][vc_btn title=”FREE TO ATTEND – REGISTRATION REQUIRED” style=”flat” shape=”square” color=”black” align=”center” button_block=”true” link=”url:https%3A%2F%2Fprod5.agileticketing.net%2Fwebsales%2Fpages%2Flist.aspx%3Fepguid%3D0ee6eecd-c61c-48a7-94a7-3a21da4ffdd9%26|target:_blank”][vc_empty_space][vc_column_text]Written by Marie-Helene d’Estienne\nDirected by Ron Clark \nOctober 21-31\, 2021 at University of Iowa Main Library Gallery\, 125 W Washington St\, Iowa City 52242 \nIn collaboration with the Iowa City Book Festival and University of Iowa Libraries’ “Dostoevsky at 200” exhibit. \nDostoyevsky’s chilling parable about life\, religious faith\, and the stories that hold our society together. A monologue of urgency and intensity adapted from The Brothers Karamazov.[/vc_column_text][vc_column_text el_class=”b-box-2″] \nCast & Crew\n\n			\n				\n			\n				\n				John Williams Watkins\n				\n		\n\nTHE INQUISITOR: John William Watkins* \nCast & Crew\nDirector: Ron Clark\nScenic & Lighting Designer: Chris Rich\nCostume Designer: Jenny Nutting Kelchen\nStage Manager: Maggie McClellan\nSound Designer: Bri Atwood\nCOVID Safety Officers: Adam Knight\, Jody Hovland \n*Members of Actors’ Equity Association\, the Union of Professional Actors and Stage Managers in the United States \n[/vc_column_text][vc_column_text] \nMedia Partner\n[/vc_column_text][/vc_column][/vc_row][vc_row][vc_column][/vc_column][/vc_row]
URL:https://riversidetheatre.org/event/the-grand-inquisitor-10-29-21/
LOCATION:University of Iowa Main Library Gallery\, 125 W Washington St\,\, Iowa City\, IA\, 52242\, United States
END:VEVENT
BEGIN:VEVENT
DTSTART;TZID=America/Chicago:20211030T140000
DTEND;TZID=America/Chicago:20211030T140000
DTSTAMP:20260425T081622
CREATED:20210923T225351Z
LAST-MODIFIED:20211029T171220Z
UID:1706-1635602400-1635602400@riversidetheatre.org
SUMMARY:The Grand Inquisitor - SOLD OUT
DESCRIPTION:[vc_row][vc_column width=”1/2″][vc_single_image image=”1299″ img_size=”full” alignment=”center”][vc_column_text el_class=”b-box-3 mt-0″] \nPerformances\nThursday\, October 21 @ 7:30pm – SOLD OUT\nFriday\, October 22 @ 7:30pm – SOLD OUT\nSaturday\, October 23 @ 7:30pm – SOLD OUT\nSunday\, October 24 @ 2:00pm – SOLD OUT \nThursday\, October 28 @ 7:30pm – SOLD OUT\nFriday\, October 29 @ 7:30pm – SOLD OUT\nSaturday\, October 30 @ 7:30pm – SOLD OUT\nSunday\, October 31 @ 2:00pm – SOLD OUT \n[/vc_column_text][vc_column_text el_class=”b-box-3″] \nPlan Your Visit\nTickets: Registration is required for admission. No need to print anything once you’ve registered – your name will be on our list! \nCOVID Safety: Masks are strongly encouraged to be worn during the entirety of the performance. Drinking and eating will not be allowed during the performance. \nRun Time: 45 minutes\, no intermission \nArriving: Please arrive early – there are no breaks in the performance for late seating. The easiest way to access the UI Main Library Gallery is via the north entrance of the main library. \nParking: For information on parking near the UI Main Library\, please click HERE. \nConcessions: There will be no concessions and we kindly request that no food or drink be brought into the gallery\, aside from water bottles. \n[/vc_column_text][vc_column_text] \nLocation\n\n\nUniversity of Iowa Main Library Gallery\, 125 W Washington St\, Iowa City 52242 \n\n\n[/vc_column_text][vc_single_image image=”1341″ img_size=”full” style=”vc_box_circle”][/vc_column][vc_column width=”1/2″][vc_btn title=”FREE TO ATTEND – REGISTRATION REQUIRED” style=”flat” shape=”square” color=”black” align=”center” button_block=”true” link=”url:https%3A%2F%2Fprod5.agileticketing.net%2Fwebsales%2Fpages%2Flist.aspx%3Fepguid%3D0ee6eecd-c61c-48a7-94a7-3a21da4ffdd9%26|target:_blank”][vc_empty_space][vc_column_text]Written by Marie-Helene d’Estienne\nDirected by Ron Clark \nOctober 21-31\, 2021 at University of Iowa Main Library Gallery\, 125 W Washington St\, Iowa City 52242 \nIn collaboration with the Iowa City Book Festival and University of Iowa Libraries’ “Dostoevsky at 200” exhibit. \nDostoyevsky’s chilling parable about life\, religious faith\, and the stories that hold our society together. A monologue of urgency and intensity adapted from The Brothers Karamazov.[/vc_column_text][vc_column_text el_class=”b-box-2″] \nCast & Crew\n\n			\n				\n			\n				\n				John Williams Watkins\n				\n		\n\nTHE INQUISITOR: John William Watkins* \nCast & Crew\nDirector: Ron Clark\nScenic & Lighting Designer: Chris Rich\nCostume Designer: Jenny Nutting Kelchen\nStage Manager: Maggie McClellan\nSound Designer: Bri Atwood\nCOVID Safety Officers: Adam Knight\, Jody Hovland \n*Members of Actors’ Equity Association\, the Union of Professional Actors and Stage Managers in the United States \n[/vc_column_text][vc_column_text] \nMedia Partner\n[/vc_column_text][/vc_column][/vc_row][vc_row][vc_column][/vc_column][/vc_row]
URL:https://riversidetheatre.org/event/the-grand-inquisitor-10-30-21/
LOCATION:University of Iowa Main Library Gallery\, 125 W Washington St\,\, Iowa City\, IA\, 52242\, United States
END:VEVENT
BEGIN:VEVENT
DTSTART;TZID=America/Chicago:20211031T140000
DTEND;TZID=America/Chicago:20211031T140000
DTSTAMP:20260425T081622
CREATED:20210923T225351Z
LAST-MODIFIED:20211029T171158Z
UID:1297-1635688800-1635688800@riversidetheatre.org
SUMMARY:The Grand Inquisitor - SOLD OUT
DESCRIPTION:[vc_row][vc_column width=”1/2″][vc_single_image image=”1299″ img_size=”full” alignment=”center”][vc_column_text el_class=”b-box-3 mt-0″] \nPerformances\nThursday\, October 21 @ 7:30pm – SOLD OUT\nFriday\, October 22 @ 7:30pm – SOLD OUT\nSaturday\, October 23 @ 7:30pm – SOLD OUT\nSunday\, October 24 @ 2:00pm – SOLD OUT \nThursday\, October 28 @ 7:30pm – SOLD OUT\nFriday\, October 29 @ 7:30pm – SOLD OUT\nSaturday\, October 30 @ 7:30pm – SOLD OUT\nSunday\, October 31 @ 2:00pm – SOLD OUT \n[/vc_column_text][vc_column_text el_class=”b-box-3″] \nPlan Your Visit\nTickets: Registration is required for admission. No need to print anything once you’ve registered – your name will be on our list! \nCOVID Safety: Masks are strongly encouraged to be worn during the entirety of the performance. Drinking and eating will not be allowed during the performance. \nRun Time: 45 minutes\, no intermission \nArriving: Please arrive early – there are no breaks in the performance for late seating. The easiest way to access the UI Main Library Gallery is via the north entrance of the main library. \nParking: For information on parking near the UI Main Library\, please click HERE. \nConcessions: There will be no concessions and we kindly request that no food or drink be brought into the gallery\, aside from water bottles. \n[/vc_column_text][vc_column_text] \nLocation\n\n\nUniversity of Iowa Main Library Gallery\, 125 W Washington St\, Iowa City 52242 \n\n\n[/vc_column_text][vc_single_image image=”1341″ img_size=”full” style=”vc_box_circle”][/vc_column][vc_column width=”1/2″][vc_btn title=”FREE TO ATTEND – REGISTRATION REQUIRED” style=”flat” shape=”square” color=”black” align=”center” button_block=”true” link=”url:https%3A%2F%2Fprod5.agileticketing.net%2Fwebsales%2Fpages%2Flist.aspx%3Fepguid%3D0ee6eecd-c61c-48a7-94a7-3a21da4ffdd9%26|target:_blank”][vc_empty_space][vc_column_text]Written by Marie-Helene d’Estienne\nDirected by Ron Clark \nOctober 21-31\, 2021 at University of Iowa Main Library Gallery\, 125 W Washington St\, Iowa City 52242 \nIn collaboration with the Iowa City Book Festival and University of Iowa Libraries’ “Dostoevsky at 200” exhibit. \nDostoyevsky’s chilling parable about life\, religious faith\, and the stories that hold our society together. A monologue of urgency and intensity adapted from The Brothers Karamazov.[/vc_column_text][vc_column_text el_class=”b-box-2″] \nCast & Crew\n\n			\n				\n			\n				\n				John Williams Watkins\n				\n		\n\nTHE INQUISITOR: John William Watkins* \nCast & Crew\nDirector: Ron Clark\nScenic & Lighting Designer: Chris Rich\nCostume Designer: Jenny Nutting Kelchen\nStage Manager: Maggie McClellan\nSound Designer: Bri Atwood\nCOVID Safety Officers: Adam Knight\, Jody Hovland \n*Members of Actors’ Equity Association\, the Union of Professional Actors and Stage Managers in the United States \n[/vc_column_text][vc_column_text] \nMedia Partner\n[/vc_column_text][/vc_column][/vc_row][vc_row][vc_column][/vc_column][/vc_row]
URL:https://riversidetheatre.org/event/the-grand-inquisitor-10-31-21/
LOCATION:University of Iowa Main Library Gallery\, 125 W Washington St\,\, Iowa City\, IA\, 52242\, United States
END:VEVENT
END:VCALENDAR