BEGIN:VCALENDAR
VERSION:2.0
PRODID:-//Riverside Theatre - Iowa City, Iowa - ECPv6.2.9//NONSGML v1.0//EN
CALSCALE:GREGORIAN
METHOD:PUBLISH
X-WR-CALNAME:Riverside Theatre - Iowa City, Iowa
X-ORIGINAL-URL:https://riversidetheatre.org
X-WR-CALDESC:Events for Riverside Theatre - Iowa City, Iowa
REFRESH-INTERVAL;VALUE=DURATION:PT1H
X-Robots-Tag:noindex
X-PUBLISHED-TTL:PT1H
BEGIN:VTIMEZONE
TZID:America/Chicago
BEGIN:DAYLIGHT
TZOFFSETFROM:-0600
TZOFFSETTO:-0500
TZNAME:CDT
DTSTART:20210314T080000
END:DAYLIGHT
BEGIN:STANDARD
TZOFFSETFROM:-0500
TZOFFSETTO:-0600
TZNAME:CST
DTSTART:20211107T070000
END:STANDARD
END:VTIMEZONE
BEGIN:VEVENT
DTSTART;TZID=America/Chicago:20210822T193000
DTEND;TZID=America/Chicago:20210822T193000
DTSTAMP:20260425T060412
CREATED:20210706T135615Z
LAST-MODIFIED:20220331T220139Z
UID:1031-1629660600-1629660600@riversidetheatre.org
SUMMARY:The Comedy of Errors
DESCRIPTION:[vc_row][vc_column][vc_column_text] \n\nFREE TO ATTEND\n\n[/vc_column_text][vc_column_text]Directed by Angie Toomsen\nAugust 13-22\, 2021 \n“How many fond fools serve mad jealousy!”\nTravel bans\, families unable to visit\, and a world gone topsy turvy. Sound familiar? Welcome to Ephesus! (Which feels strangely like Nashville in the 1970s.) Shakespeare’s madcap farce tells the story of two sets of twins in the same place at the wrong (right?) time. Bold\, flashy\, and rhinestone-studded\, this is Shakespeare at his most riotously comic.[/vc_column_text][/vc_column][/vc_row]
URL:https://riversidetheatre.org/event/the-comedy-of-errors-2021-08-22/
LOCATION:Iowa City’s Lower City Park\, 200 Park Rd\, Iowa City\, IA\, 52246\, United States
ATTACH;FMTTYPE=image/jpeg:https://riversidetheatre.org/wp-content/uploads/2021/05/coe_hero.jpg
END:VEVENT
BEGIN:VEVENT
DTSTART;TZID=America/Chicago:20210813T193000
DTEND;TZID=America/Chicago:20210813T193000
DTSTAMP:20260425T060412
CREATED:20210706T135615Z
LAST-MODIFIED:20210708T045641Z
UID:814-1628883000-1628883000@riversidetheatre.org
SUMMARY:The Comedy of Errors
DESCRIPTION:[vc_row][vc_column][vc_column_text] \n\nFREE TO ATTEND\n\n[/vc_column_text][vc_column_text]Directed by Angie Toomsen\nAugust 13-22\, 2021 \n“How many fond fools serve mad jealousy!”\nTravel bans\, families unable to visit\, and a world gone topsy turvy. Sound familiar? Welcome to Ephesus! (Which feels strangely like Nashville in the 1970s.) Shakespeare’s madcap farce tells the story of two sets of twins in the same place at the wrong (right?) time. Bold\, flashy\, and rhinestone-studded\, this is Shakespeare at his most riotously comic.[/vc_column_text][/vc_column][/vc_row]
URL:https://riversidetheatre.org/event/the-comedy-of-errors/2021-08-13/
LOCATION:Iowa City’s Lower City Park\, 200 Park Rd\, Iowa City\, IA\, 52246\, United States
ATTACH;FMTTYPE=image/jpeg:https://riversidetheatre.org/wp-content/uploads/2021/05/coe_hero.jpg
END:VEVENT
BEGIN:VEVENT
DTSTART;TZID=America/Chicago:20210715T193000
DTEND;TZID=America/Chicago:20210715T193000
DTSTAMP:20260425T060412
CREATED:20210706T135319Z
LAST-MODIFIED:20210708T045638Z
UID:797-1626377400-1626377400@riversidetheatre.org
SUMMARY:The Winter's Tale
DESCRIPTION:[vc_row][vc_column][vc_raw_html]JTNDZGl2JTIwY2xhc3MlM0QlMjJiLWJveC0zJTIwbXQtMCUyMiUzRSUzQ2g0JTIwY2xhc3MlM0QlMjJtYi0wJTIyJTNFJTNDc3Ryb25nJTNFJTNDc3BhbiUyMHN0eWxlJTNEJTIyY29sb3IlM0ElMjAlMjNhNzM1M2ElM0IlMjIlM0VGUkVFJTIwVE8lMjBBVFRFTkQlM0MlMkZzcGFuJTNFJTNDJTJGc3Ryb25nJTNFJTNDJTJGaDQlM0UlM0MlMkZkaXYlM0U=[/vc_raw_html][vc_column_text]Directed by Adam Knight\nJuly 10-25\, 2021 \n“It is required you do awake your faith…”\nConsidered one of Shakespeare’s greatest plays\, The Winter’s Tale is a story of rebirth and redemption. Pivoting from comedy to tragedy and back again\, it tells of two kingdoms bonded in friendship\, riven by jealousy. King Leontes rules the cold halls of Sicilia with an increasingly tyrannical bent. Can the whitsuntide feasts of Bohemia and the promise of a new generation bring about the healing so desperately needed? Time will tell.[/vc_column_text][/vc_column][/vc_row]
URL:https://riversidetheatre.org/event/the-winters-tale/2021-07-15/
LOCATION:Iowa City’s Lower City Park\, 200 Park Rd\, Iowa City\, IA\, 52246\, United States
ATTACH;FMTTYPE=image/jpeg:https://riversidetheatre.org/wp-content/uploads/2021/05/twt-hero.jpg
END:VEVENT
BEGIN:VEVENT
DTSTART;VALUE=DATE:20210502
DTEND;VALUE=DATE:20210503
DTSTAMP:20260425T060412
CREATED:20210423T212211Z
LAST-MODIFIED:20210525T015640Z
UID:320-1619913600-1619999999@riversidetheatre.org
SUMMARY:Sonnets for an Old Century
DESCRIPTION:Written by José Rivera\nDirected by Adam Knight  \nIn a land of unimaginable distance\, can stories forge connection? Can a life be encompassed in the space of a sonnet? A cast of twenty-three attempts to give voice to the meaning of their existence in José Rivera’s riveting quiltwork drama\, inescapably modern with echoes of Spoon River Anthology.  \nA diverse kaleidoscope of expressions on what it means to be alive. \nAvailable for streaming from April 16 at 7:30pm through April 25 \n and April 29 at 7:30pm through midnight May 2 \n\nAvailable for streaming from April 16 at 7:30pm through April 25\nand April 29 at 7:30pm through midnight May 2 \nProgram\nHow to Stream Sonnets for An Old Century \nCAST & CREW\nFeaturing: Art Roche | Luli GT | Kristy Hartsgrove Mooers | Tierra Plowden |  Rachel Howell | Chris Okiishi | Rachael Lindhart | John William Watkins | Karlē Meyers | Deven Vera | Aaron Weiner | Mary Jane Claassen | Patrick DuLaney | Sarah Hinzman | Crystal Marie Stewart | Tad Paulson | Kristen DeGrazia | Barrington Vaxter | Octavius Lanier | Mia Fryvecind Gimenez | Britny Horton | Diviin Huff | Noel VanDenBosch \nDirector: Adam Knight\nAssociate Director: Crystal Marie Stewart\nProduction Designer & Model Craftsperson: S. Benjamin Farrar\nCostume Designer: Zamora Simmons\nSound Designer: G Clausen\nFilm and Editing: Rob Merritt\nStage Manager/PA: Olivia Leslie\nTechnical Director: Chris Rich\nAdditional photography & compositing: S. Benjamin Farrar & Rob Merritt
URL:https://riversidetheatre.org/event/sonnets-for-an-old-century-2021-05-02/
LOCATION:Riverside Theatre
ATTACH;FMTTYPE=image/png:https://riversidetheatre.org/wp-content/uploads/2021/04/sonnet_century_banner.png
END:VEVENT
BEGIN:VEVENT
DTSTART;VALUE=DATE:20210416
DTEND;VALUE=DATE:20210417
DTSTAMP:20260425T060412
CREATED:20210423T212211Z
LAST-MODIFIED:20210525T015725Z
UID:38-1618531200-1618617599@riversidetheatre.org
SUMMARY:Sonnets for an Old Century
DESCRIPTION:Written by José Rivera\nDirected by Adam Knight  \nIn a land of unimaginable distance\, can stories forge connection? Can a life be encompassed in the space of a sonnet? A cast of twenty-three attempts to give voice to the meaning of their existence in José Rivera’s riveting quiltwork drama\, inescapably modern with echoes of Spoon River Anthology.  \nA diverse kaleidoscope of expressions on what it means to be alive. \nAvailable for streaming from April 16 at 7:30pm through April 25 \n and April 29 at 7:30pm through midnight May 2 \n\nAvailable for streaming from April 16 at 7:30pm through April 25\nand April 29 at 7:30pm through midnight May 2 \nProgram\nHow to Stream Sonnets for An Old Century \nCAST & CREW\nFeaturing: Art Roche | Luli GT | Kristy Hartsgrove Mooers | Tierra Plowden |  Rachel Howell | Chris Okiishi | Rachael Lindhart | John William Watkins | Karlē Meyers | Deven Vera | Aaron Weiner | Mary Jane Claassen | Patrick DuLaney | Sarah Hinzman | Crystal Marie Stewart | Tad Paulson | Kristen DeGrazia | Barrington Vaxter | Octavius Lanier | Mia Fryvecind Gimenez | Britny Horton | Diviin Huff | Noel VanDenBosch \nDirector: Adam Knight\nAssociate Director: Crystal Marie Stewart\nProduction Designer & Model Craftsperson: S. Benjamin Farrar\nCostume Designer: Zamora Simmons\nSound Designer: G Clausen\nFilm and Editing: Rob Merritt\nStage Manager/PA: Olivia Leslie\nTechnical Director: Chris Rich\nAdditional photography & compositing: S. Benjamin Farrar & Rob Merritt
URL:https://riversidetheatre.org/event/sonnets-for-an-old-century/2021-04-16/
LOCATION:Riverside Theatre
ATTACH;FMTTYPE=image/png:https://riversidetheatre.org/wp-content/uploads/2021/04/sonnet_century_banner.png
END:VEVENT
END:VCALENDAR